BEGIN:VCALENDAR
VERSION:2.0
PRODID:-//wp-events-plugin.com//7.2.3.1//EN
BEGIN:VEVENT
UID:1@friedensfahrt-museum.de
DTSTART:20190815T230000Z
DTEND:20190815T230000Z
DTSTAMP:20190808T153737Z
URL:https://www.friedensfahrt-museum.de/events/bernburger-bergzeitfahren-2
 019/
SUMMARY:Bernburger Bergzeitfahren 2019
DESCRIPTION:[pdf-embedder url="https://www.friedensfahrt-museum.de/wp-conte
 nt/uploads/Flyer_2019.pdf"]
ATTACH;FMTTYPE=image/jpeg:https://www.friedensfahrt-museum.de/wp-content/u
 ploads/bzfbernburg.jpg
CATEGORIES:Sonstige Wettkämpfe
END:VEVENT
BEGIN:VEVENT
UID:2@friedensfahrt-museum.de
DTSTART:20210221T191500Z
DTEND:20210221T204500Z
DTSTAMP:20210218T111615Z
URL:https://www.friedensfahrt-museum.de/events/taeve-im-mdr/
SUMMARY:Täve im mdr
DESCRIPTION:
END:VEVENT
BEGIN:VEVENT
UID:6@friedensfahrt-museum.de
DTSTART:20230113T150000Z
DTEND:20230113T170000Z
DTSTAMP:20221222T034811Z
URL:https://www.friedensfahrt-museum.de/events/vortrag-weltenbummler-thoma
 s-meixner/
SUMMARY:16:00 Vortrag Thomas Meixner
DESCRIPTION:Kleinmühlingen (vs) - Weltenbummler Thomas Meixner kommt für 
 zwei Vorträge "Alaska nach Feuerland" am Freitag den 13. Januar zu uns in
 s Friedensfahrt-Museum nach Kleinmühlingen. Ein Vortrag startet um 16 Uhr
 \, der zweite um 19:30 Uhr. Der Kartenvorverkauf dafür ist gestartet. Tic
 kets sind im Friedensfahrt-Museum\, Telefon (039291) 73707 oder per Mail u
 nter info@radsportmuseum.de erhältlich.
ATTACH;FMTTYPE=image/jpeg:https://www.friedensfahrt-museum.de/wp-content/u
 ploads/meixner.png
LOCATION:Radsportmuseum \\"Course de la Paix\\"\, Grabenstraße 20\, Kleinm
 ühlingen\, Sachsen-Anhalt\, 39221\, Deutschland
X-APPLE-STRUCTURED-LOCATION;VALUE=URI;X-ADDRESS=Grabenstraße 20\, Kleinmü
 hlingen\, Sachsen-Anhalt\, 39221\, Deutschland;X-APPLE-RADIUS=100;X-TITLE=
 Radsportmuseum \\\"Course de la Paix\\\":geo:0,0
END:VEVENT
BEGIN:VEVENT
UID:7@friedensfahrt-museum.de
DTSTART:20230113T183000Z
DTEND:20230113T203000Z
DTSTAMP:20221222T034925Z
URL:https://www.friedensfahrt-museum.de/events/vortrag-weltenbummler-thoma
 s-meixner-2/
SUMMARY:19:30 Vortrag Thomas Meixner
DESCRIPTION:Kleinmühlingen (vs) - Weltenbummler Thomas Meixner kommt für 
 zwei Vorträge "Alaska nach Feuerland" am Freitag den 13. Januar zu uns in
 s Friedensfahrt-Museum nach Kleinmühlingen. Ein Vortrag startet um 16 Uhr
 \, der zweite um 19:30 Uhr. Der Kartenvorverkauf dafür ist gestartet. Tic
 kets sind im Friedensfahrt-Museum\, Telefon (039291) 73707 oder per Mail u
 nter info@radsportmuseum.de erhältlich.
ATTACH;FMTTYPE=image/jpeg:https://www.friedensfahrt-museum.de/wp-content/u
 ploads/meixner.png
LOCATION:Radsportmuseum \\"Course de la Paix\\"\, Grabenstraße 20\, Kleinm
 ühlingen\, Sachsen-Anhalt\, 39221\, Deutschland
X-APPLE-STRUCTURED-LOCATION;VALUE=URI;X-ADDRESS=Grabenstraße 20\, Kleinmü
 hlingen\, Sachsen-Anhalt\, 39221\, Deutschland;X-APPLE-RADIUS=100;X-TITLE=
 Radsportmuseum \\\"Course de la Paix\\\":geo:0,0
END:VEVENT
BEGIN:VEVENT
UID:8@friedensfahrt-museum.de
DTSTART:20230415T090000Z
DTEND:20230415T143000Z
DTSTAMP:20230107T155357Z
URL:https://www.friedensfahrt-museum.de/events/mitgliederversammlung-radfr
 eizeit-radsportgeschichte-und-friedensfahrt-e-v/
SUMMARY:Mitgliederversammlung „Radfreizeit\, Radsportgeschichte und Fried
 ensfahrt e.V.
DESCRIPTION:10:00 Uhr - 12:00 Uhr Beginn\n12:00 Uhr - 13:00 Uhr Mittagspaus
 e\n13:00 Uhr - 15:00 Uhr Mitgliederversammlung „Kuratorium Friedensfahrt
  e.V.“\n15:00 Uhr Tagesausklang bei Kaffee und Kuchen
ATTACH;FMTTYPE=image/jpeg:https://www.friedensfahrt-museum.de/wp-content/u
 ploads/2018/01/favicon.png
CATEGORIES:Veranstaltungen
LOCATION:Radsportmuseum \\"Course de la Paix\\"\, Grabenstraße 20\, Kleinm
 ühlingen\, Sachsen-Anhalt\, 39221\, Deutschland
X-APPLE-STRUCTURED-LOCATION;VALUE=URI;X-ADDRESS=Grabenstraße 20\, Kleinmü
 hlingen\, Sachsen-Anhalt\, 39221\, Deutschland;X-APPLE-RADIUS=100;X-TITLE=
 Radsportmuseum \\\"Course de la Paix\\\":geo:0,0
END:VEVENT
END:VCALENDAR